BEGIN:VCALENDAR
PRODID:-//eluceo/ical//2.0/EN
VERSION:2.0
CALSCALE:GREGORIAN
BEGIN:VEVENT
UID:Baywa r.e.
DTSTAMP:20260423T051727Z
SUMMARY:GSES Professional Package
DESCRIPTION:The GSES Professional Package is designed for electricians and 
 energy professionals who want to cover all the bases of designing grid-con
 nected PV with and without battery storage and stand-alone photovoltaic (P
 V) systems\, the Professional Package offers three key GSES publications a
 t a great discounted rate.\nThe package includes&nbsp\;the latest 8th Edit
 ion of&nbsp\;Grid-Connected PV Systems: Design &amp\; Installation\,&nbsp\
 ;Stand Alone Power Supply Systems: Design and Installation Training Manual
 \, and GSES's&nbsp\;brand NEW&nbsp\;Grid-Connected PV Systems with Battery
  Storage Second Edition.
DTSTART:20200331T220000Z
DTEND:20230629T220000Z
LOCATION:Physical Copy
END:VEVENT
BEGIN:VTIMEZONE
TZID:UTC
END:VTIMEZONE
END:VCALENDAR
