BEGIN:VCALENDAR
PRODID:-//eluceo/ical//2.0/EN
VERSION:2.0
CALSCALE:GREGORIAN
BEGIN:VEVENT
UID:Baywa r.e.
DTSTAMP:20260420T105107Z
SUMMARY:GSES Electrical Basics Online Examination
DESCRIPTION:The&nbsp\;GSES Electrical Basics&nbsp\;examination is designed 
 for engineers in the renewable energy industry intending to gain Clean Ene
 rgy Council GC or SPS Design accreditation.\nThe exam is to test your skil
 ls and abilities on basic principles of electricity and electrical compone
 nts to demonstrate you have the required level of electrical knowledge to 
 be a CEC accredited designer.\nPrerequisites:&nbsp\;An engineering degree 
 is the current prerequisite for attempting the electrical basics examinati
 on. You will be asked for a copy of your academic transcript upon enrolmen
 t. It is expected that only engineers who have previously completed a subj
 ect in basic electrical principles will achieve the pass mark.\nTerms: The
  examination fee includes two attempts at the examination\, which can be s
 tarted at any time up to one month after purchase. Access to the examinati
 on will expire after 30 days. After an attempt is started\, it must be com
 pleted within 24 hours. There are 50 questions\, and a minimum score of 45
 /50 (90%) must be achieved to successfully pass. If the pass mark is not a
 chieved after the second attempt\, the candidate will not be able to re-at
 tempt the examination for 6 months&nbsp\;and will be required to repurchas
 e the examination.\nOutcome of successful completion: Certificate of compl
 etion and eligible to apply for CEC accreditation following the completion
  of a CEC-accredited GSES course (e.g. Grid-Connected PV Systems Design On
 ly). This certificate must be submitted in conjunction with the certificat
 e of completion for the GSES course when applying for CEC provisional accr
 editation.
DTSTART:20200331T220000Z
DTEND:20230629T220000Z
LOCATION:Online
END:VEVENT
BEGIN:VTIMEZONE
TZID:UTC
END:VTIMEZONE
END:VCALENDAR
